<!-- 1$$ -->BEGIN:VCALENDAR
VERSION:2.0
METHOD:PUBLISH
PRODID:-//Accessible Web Design//My Calendar//http://www.joedolson.com//v2.5.16//EN
BEGIN:VEVENT
UID:23-14
LOCATION:     
SUMMARY:InO "2 lampiony z kontrą"
DTSTAMP:20160511T180000
ORGANIZER;CN=Szymon:MAILTO:spellbinder@poczta.fm
DTSTART:20160511T180000
DTEND:20160511T210000
URL;VALUE=URI:http://jedynka.om.pttk.pl/2016/04/ino-2-lampiony-z-kontra/
DESCRIPTION:InO "2 lampiony z kontrą" &gt;&gt;&gt; więcej 
CATEGORIES:General
END:VEVENT
BEGIN:VEVENT
UID:24-15
LOCATION:     
SUMMARY:Ruinada 2.0, czyli XXIV edycja rajdu do ruin
DTSTAMP:20160514T000000
ORGANIZER;CN=Zarząd:MAILTO:kolopttknr1@gmail.com
DTSTART:20160514T000000
DTEND:20160516T000000
URL;VALUE=URI:http://jedynka.om.pttk.pl/2016/05/ruinada-2-0-xxiv-edycja-14-15-maja/
DESCRIPTION:Zapraszamy na długo wyczekiwany tradycyjny rajd Ruinada, tym razem, w odmienionej wersji – Ruinada 2.0!
CATEGORIES:General
END:VEVENT
BEGIN:VEVENT
UID:24-15
LOCATION:     
SUMMARY:Ruinada 2.0, czyli XXIV edycja rajdu do ruin
DTSTAMP:20160514T000000
ORGANIZER;CN=Zarząd:MAILTO:kolopttknr1@gmail.com
DTSTART:20160514T000000
DTEND:20160516T000000
URL;VALUE=URI:http://jedynka.om.pttk.pl/2016/05/ruinada-2-0-xxiv-edycja-14-15-maja/
DESCRIPTION:Zapraszamy na długo wyczekiwany tradycyjny rajd Ruinada, tym razem, w odmienionej wersji – Ruinada 2.0!
CATEGORIES:General
END:VEVENT
BEGIN:VEVENT
UID:26-17
LOCATION:     
SUMMARY:Summer is coming
DTSTAMP:20160522T110000
ORGANIZER;CN=Kamil:MAILTO:kudlaty188@gmail.com
DTSTART:20160522T110000
DTEND:20160522T190000
URL;VALUE=URI:http://jedynka.om.pttk.pl/2016/05/summer-is-coming/
DESCRIPTION:Wycieczka Rowerowa do Jadowa
CATEGORIES:General
END:VEVENT
BEGIN:VEVENT
UID:25-16
LOCATION:     
SUMMARY:Rezerwat "Jata", 28 maja
DTSTAMP:20160528T000000
ORGANIZER;CN=Szymon:MAILTO:spellbinder@poczta.fm
DTSTART:20160528T000000
DTEND:20160529T000000
URL;VALUE=URI:http://jedynka.om.pttk.pl/2016/05/rezerwat-jata-28-maja/
DESCRIPTION:
CATEGORIES:General
END:VEVENT
BEGIN:VEVENT
UID:31-22
LOCATION:     
SUMMARY:Slajdowisko "Wietnam: Północ – Południe w 14 dni"
DTSTAMP:20160608T190000
ORGANIZER;CN=Miko:MAILTO:economikro@gmail.com
DTSTART:20160608T190000
DTEND:20160608T203000
URL;VALUE=URI:http://jedynka.om.pttk.pl/2016/05/wietnam-polnoc-poludnie-w-14-dni/
DESCRIPTION:Zapraszamy na slajdowisko "Wietnam: Północ – Południe w 14 dni".
CATEGORIES:General
END:VEVENT
BEGIN:VEVENT
UID:30-21
LOCATION:     
SUMMARY:Slajdowiska
DTSTAMP:20160608T235900
ORGANIZER;CN=Kamil:MAILTO:kudlaty188@gmail.com
DTSTART:20160608T235900
DTEND:20160608T235900
URL;VALUE=URI:http://jedynka.om.pttk.pl/wp/my-calendar/
DESCRIPTION:Slajdowiska z Wietnamu
CATEGORIES:General
END:VEVENT
BEGIN:VEVENT
UID:29-20
LOCATION:     
SUMMARY:Noc Świętojańska
DTSTAMP:20160618T000000
ORGANIZER;CN=Kamil:MAILTO:kudlaty188@gmail.com
DTSTART:20160618T000000
DTEND:20160620T000000
URL;VALUE=URI:https://www.facebook.com/events/996533250453933/
DESCRIPTION:Czerwcowy relaks na wyspie Rembezy
CATEGORIES:General
END:VEVENT
BEGIN:VEVENT
UID:29-20
LOCATION:     
SUMMARY:Noc Świętojańska
DTSTAMP:20160618T000000
ORGANIZER;CN=Kamil:MAILTO:kudlaty188@gmail.com
DTSTART:20160618T000000
DTEND:20160620T000000
URL;VALUE=URI:https://www.facebook.com/events/996533250453933/
DESCRIPTION:Czerwcowy relaks na wyspie Rembezy
CATEGORIES:General
END:VEVENT
BEGIN:VEVENT
UID:28-19
LOCATION:     
SUMMARY:InO Świętojańskie
DTSTAMP:20160625T110000
ORGANIZER;CN=Kamil:MAILTO:kudlaty188@gmail.com
DTSTART:20160625T110000
DTEND:20160626T120000
URL;VALUE=URI:http://jedynka.om.pttk.pl/2016/05/ino-swietojanskie-25-26-czerwca/
DESCRIPTION:XII Ogólnop[olskie Marsze na OrientacjeWólka Radzymińska
CATEGORIES:General
END:VEVENT
BEGIN:VEVENT
UID:28-19
LOCATION:     
SUMMARY:InO Świętojańskie
DTSTAMP:20160625T110000
ORGANIZER;CN=Kamil:MAILTO:kudlaty188@gmail.com
DTSTART:20160625T110000
DTEND:20160626T120000
URL;VALUE=URI:http://jedynka.om.pttk.pl/2016/05/ino-swietojanskie-25-26-czerwca/
DESCRIPTION:XII Ogólnop[olskie Marsze na OrientacjeWólka Radzymińska
CATEGORIES:General
END:VEVENT
BEGIN:VEVENT
UID:27-18
LOCATION:     
SUMMARY:Spływak 9-10 lipca
DTSTAMP:20160709T000000
ORGANIZER;CN=Kamil:MAILTO:kudlaty188@gmail.com
DTSTART:20160709T000000
DTEND:20160711T000000
URL;VALUE=URI:http://jedynka.om.pttk.pl/2016/05/splywak-9-10-lipca/
DESCRIPTION:Spływ kajakowy Liwcem
CATEGORIES:General
END:VEVENT
BEGIN:VEVENT
UID:27-18
LOCATION:     
SUMMARY:Spływak 9-10 lipca
DTSTAMP:20160709T000000
ORGANIZER;CN=Kamil:MAILTO:kudlaty188@gmail.com
DTSTART:20160709T000000
DTEND:20160711T000000
URL;VALUE=URI:http://jedynka.om.pttk.pl/2016/05/splywak-9-10-lipca/
DESCRIPTION:Spływ kajakowy Liwcem
CATEGORIES:General
END:VEVENT
BEGIN:VEVENT
UID:32-23
LOCATION:     
SUMMARY:Turnus na Kujawach
DTSTAMP:20160716T000000
ORGANIZER;CN=Kinga:MAILTO:kingab.blaszczyk@gmail.com
DTSTART:20160716T000000
DTEND:20160718T000000
URL;VALUE=URI:http://jedynka.om.pttk.pl/2016/06/turnus-na-kujawach-16-17-07/
DESCRIPTION:Turnus na Kujawach 16-17.07 (wycieczka rowerowa) 	dowiesz się kim byli Mennonici i gdzie powstają przebojowe warzywa Bonduelle 	przypomnisz sobie smak pysznych toruńskich pierników 	zażyjesz uzdrawiających inhalacji pod tężniami, nie tylko w Ciechocinku!&nbsp;
CATEGORIES:General
END:VEVENT
BEGIN:VEVENT
UID:32-23
LOCATION:     
SUMMARY:Turnus na Kujawach
DTSTAMP:20160716T000000
ORGANIZER;CN=Kinga:MAILTO:kingab.blaszczyk@gmail.com
DTSTART:20160716T000000
DTEND:20160718T000000
URL;VALUE=URI:http://jedynka.om.pttk.pl/2016/06/turnus-na-kujawach-16-17-07/
DESCRIPTION:Turnus na Kujawach 16-17.07 (wycieczka rowerowa) 	dowiesz się kim byli Mennonici i gdzie powstają przebojowe warzywa Bonduelle 	przypomnisz sobie smak pysznych toruńskich pierników 	zażyjesz uzdrawiających inhalacji pod tężniami, nie tylko w Ciechocinku!&nbsp;
CATEGORIES:General
END:VEVENT
BEGIN:VEVENT
UID:37-24
LOCATION:     
SUMMARY:Masyw Śnieżnika – trekking
DTSTAMP:20160731T235900
ORGANIZER;CN=Szymon:MAILTO:spellbinder@poczta.fm
DTSTART:20160731T235900
DTEND:20160807T235900
URL;VALUE=URI:http://jedynka.om.pttk.pl/2016/07/czarnohora-ukraina-treking/
DESCRIPTION:górski obóz wędrowny w szeroko pojętym Masywie Śnieznikaszczegóły tutaj
CATEGORIES:General
END:VEVENT
BEGIN:VEVENT
UID:37-24
LOCATION:     
SUMMARY:Masyw Śnieżnika – trekking
DTSTAMP:20160731T235900
ORGANIZER;CN=Szymon:MAILTO:spellbinder@poczta.fm
DTSTART:20160731T235900
DTEND:20160807T235900
URL;VALUE=URI:http://jedynka.om.pttk.pl/2016/07/czarnohora-ukraina-treking/
DESCRIPTION:górski obóz wędrowny w szeroko pojętym Masywie Śnieznikaszczegóły tutaj
CATEGORIES:General
END:VEVENT
BEGIN:VEVENT
UID:37-24
LOCATION:     
SUMMARY:Masyw Śnieżnika – trekking
DTSTAMP:20160731T235900
ORGANIZER;CN=Szymon:MAILTO:spellbinder@poczta.fm
DTSTART:20160731T235900
DTEND:20160807T235900
URL;VALUE=URI:http://jedynka.om.pttk.pl/2016/07/czarnohora-ukraina-treking/
DESCRIPTION:górski obóz wędrowny w szeroko pojętym Masywie Śnieznikaszczegóły tutaj
CATEGORIES:General
END:VEVENT
BEGIN:VEVENT
UID:37-24
LOCATION:     
SUMMARY:Masyw Śnieżnika – trekking
DTSTAMP:20160731T235900
ORGANIZER;CN=Szymon:MAILTO:spellbinder@poczta.fm
DTSTART:20160731T235900
DTEND:20160807T235900
URL;VALUE=URI:http://jedynka.om.pttk.pl/2016/07/czarnohora-ukraina-treking/
DESCRIPTION:górski obóz wędrowny w szeroko pojętym Masywie Śnieznikaszczegóły tutaj
CATEGORIES:General
END:VEVENT
BEGIN:VEVENT
UID:37-24
LOCATION:     
SUMMARY:Masyw Śnieżnika – trekking
DTSTAMP:20160731T235900
ORGANIZER;CN=Szymon:MAILTO:spellbinder@poczta.fm
DTSTART:20160731T235900
DTEND:20160807T235900
URL;VALUE=URI:http://jedynka.om.pttk.pl/2016/07/czarnohora-ukraina-treking/
DESCRIPTION:górski obóz wędrowny w szeroko pojętym Masywie Śnieznikaszczegóły tutaj
CATEGORIES:General
END:VEVENT
BEGIN:VEVENT
UID:37-24
LOCATION:     
SUMMARY:Masyw Śnieżnika – trekking
DTSTAMP:20160731T235900
ORGANIZER;CN=Szymon:MAILTO:spellbinder@poczta.fm
DTSTART:20160731T235900
DTEND:20160807T235900
URL;VALUE=URI:http://jedynka.om.pttk.pl/2016/07/czarnohora-ukraina-treking/
DESCRIPTION:górski obóz wędrowny w szeroko pojętym Masywie Śnieznikaszczegóły tutaj
CATEGORIES:General
END:VEVENT
BEGIN:VEVENT
UID:37-24
LOCATION:     
SUMMARY:Masyw Śnieżnika – trekking
DTSTAMP:20160731T235900
ORGANIZER;CN=Szymon:MAILTO:spellbinder@poczta.fm
DTSTART:20160731T235900
DTEND:20160807T235900
URL;VALUE=URI:http://jedynka.om.pttk.pl/2016/07/czarnohora-ukraina-treking/
DESCRIPTION:górski obóz wędrowny w szeroko pojętym Masywie Śnieznikaszczegóły tutaj
CATEGORIES:General
END:VEVENT
BEGIN:VEVENT
UID:37-24
LOCATION:     
SUMMARY:Masyw Śnieżnika – trekking
DTSTAMP:20160731T235900
ORGANIZER;CN=Szymon:MAILTO:spellbinder@poczta.fm
DTSTART:20160731T235900
DTEND:20160807T235900
URL;VALUE=URI:http://jedynka.om.pttk.pl/2016/07/czarnohora-ukraina-treking/
DESCRIPTION:górski obóz wędrowny w szeroko pojętym Masywie Śnieznikaszczegóły tutaj
CATEGORIES:General
END:VEVENT
BEGIN:VEVENT
UID:34-25
LOCATION:     
SUMMARY:Do źrodeł rajd pieszy po Wielkopolsce
DTSTAMP:20160813T000000
ORGANIZER;CN=Kamil:MAILTO:kudlaty188@gmail.com
DTSTART:20160813T000000
DTEND:20160816T000000
URL;VALUE=URI:http://jedynka.om.pttk.pl/2016/07/do-zrodel-rajd-pieszy-w-wielkopolsce/
DESCRIPTION:
CATEGORIES:General
END:VEVENT
BEGIN:VEVENT
UID:34-25
LOCATION:     
SUMMARY:Do źrodeł rajd pieszy po Wielkopolsce
DTSTAMP:20160813T000000
ORGANIZER;CN=Kamil:MAILTO:kudlaty188@gmail.com
DTSTART:20160813T000000
DTEND:20160816T000000
URL;VALUE=URI:http://jedynka.om.pttk.pl/2016/07/do-zrodel-rajd-pieszy-w-wielkopolsce/
DESCRIPTION:
CATEGORIES:General
END:VEVENT
BEGIN:VEVENT
UID:34-25
LOCATION:     
SUMMARY:Do źrodeł rajd pieszy po Wielkopolsce
DTSTAMP:20160813T000000
ORGANIZER;CN=Kamil:MAILTO:kudlaty188@gmail.com
DTSTART:20160813T000000
DTEND:20160816T000000
URL;VALUE=URI:http://jedynka.om.pttk.pl/2016/07/do-zrodel-rajd-pieszy-w-wielkopolsce/
DESCRIPTION:
CATEGORIES:General
END:VEVENT
BEGIN:VEVENT
UID:35-26
LOCATION:     
SUMMARY:Rajd – Rekonstrukcja Bitwy pod Mławą
DTSTAMP:20160827T000000
ORGANIZER;CN=Kamil:MAILTO:kudlaty188@gmail.com
DTSTART:20160827T000000
DTEND:20160828T000000
URL;VALUE=URI:http://jedynka.om.pttk.pl/2016/07/rajd-sladami-bolka-rekonstrukcja-bitwy-pod-mlawa-27-viii-2016-r-sobota/
DESCRIPTION:
CATEGORIES:General
END:VEVENT
BEGIN:VEVENT
UID:36-27
LOCATION:     
SUMMARY:Scotland, Aye!
DTSTAMP:20160909T000000
ORGANIZER;CN=Kamil:MAILTO:kudlaty188@gmail.com
DTSTART:20160909T000000
DTEND:20160919T000000
URL;VALUE=URI:http://jedynka.om.pttk.pl/2016/07/scotland-aye-9-18-09-2016-trekking/
DESCRIPTION:
CATEGORIES:General
END:VEVENT
BEGIN:VEVENT
UID:36-27
LOCATION:     
SUMMARY:Scotland, Aye!
DTSTAMP:20160909T000000
ORGANIZER;CN=Kamil:MAILTO:kudlaty188@gmail.com
DTSTART:20160909T000000
DTEND:20160919T000000
URL;VALUE=URI:http://jedynka.om.pttk.pl/2016/07/scotland-aye-9-18-09-2016-trekking/
DESCRIPTION:
CATEGORIES:General
END:VEVENT
BEGIN:VEVENT
UID:36-27
LOCATION:     
SUMMARY:Scotland, Aye!
DTSTAMP:20160909T000000
ORGANIZER;CN=Kamil:MAILTO:kudlaty188@gmail.com
DTSTART:20160909T000000
DTEND:20160919T000000
URL;VALUE=URI:http://jedynka.om.pttk.pl/2016/07/scotland-aye-9-18-09-2016-trekking/
DESCRIPTION:
CATEGORIES:General
END:VEVENT
BEGIN:VEVENT
UID:36-27
LOCATION:     
SUMMARY:Scotland, Aye!
DTSTAMP:20160909T000000
ORGANIZER;CN=Kamil:MAILTO:kudlaty188@gmail.com
DTSTART:20160909T000000
DTEND:20160919T000000
URL;VALUE=URI:http://jedynka.om.pttk.pl/2016/07/scotland-aye-9-18-09-2016-trekking/
DESCRIPTION:
CATEGORIES:General
END:VEVENT
BEGIN:VEVENT
UID:36-27
LOCATION:     
SUMMARY:Scotland, Aye!
DTSTAMP:20160909T000000
ORGANIZER;CN=Kamil:MAILTO:kudlaty188@gmail.com
DTSTART:20160909T000000
DTEND:20160919T000000
URL;VALUE=URI:http://jedynka.om.pttk.pl/2016/07/scotland-aye-9-18-09-2016-trekking/
DESCRIPTION:
CATEGORIES:General
END:VEVENT
BEGIN:VEVENT
UID:36-27
LOCATION:     
SUMMARY:Scotland, Aye!
DTSTAMP:20160909T000000
ORGANIZER;CN=Kamil:MAILTO:kudlaty188@gmail.com
DTSTART:20160909T000000
DTEND:20160919T000000
URL;VALUE=URI:http://jedynka.om.pttk.pl/2016/07/scotland-aye-9-18-09-2016-trekking/
DESCRIPTION:
CATEGORIES:General
END:VEVENT
BEGIN:VEVENT
UID:36-27
LOCATION:     
SUMMARY:Scotland, Aye!
DTSTAMP:20160909T000000
ORGANIZER;CN=Kamil:MAILTO:kudlaty188@gmail.com
DTSTART:20160909T000000
DTEND:20160919T000000
URL;VALUE=URI:http://jedynka.om.pttk.pl/2016/07/scotland-aye-9-18-09-2016-trekking/
DESCRIPTION:
CATEGORIES:General
END:VEVENT
BEGIN:VEVENT
UID:36-27
LOCATION:     
SUMMARY:Scotland, Aye!
DTSTAMP:20160909T000000
ORGANIZER;CN=Kamil:MAILTO:kudlaty188@gmail.com
DTSTART:20160909T000000
DTEND:20160919T000000
URL;VALUE=URI:http://jedynka.om.pttk.pl/2016/07/scotland-aye-9-18-09-2016-trekking/
DESCRIPTION:
CATEGORIES:General
END:VEVENT
BEGIN:VEVENT
UID:36-27
LOCATION:     
SUMMARY:Scotland, Aye!
DTSTAMP:20160909T000000
ORGANIZER;CN=Kamil:MAILTO:kudlaty188@gmail.com
DTSTART:20160909T000000
DTEND:20160919T000000
URL;VALUE=URI:http://jedynka.om.pttk.pl/2016/07/scotland-aye-9-18-09-2016-trekking/
DESCRIPTION:
CATEGORIES:General
END:VEVENT
BEGIN:VEVENT
UID:36-27
LOCATION:     
SUMMARY:Scotland, Aye!
DTSTAMP:20160909T000000
ORGANIZER;CN=Kamil:MAILTO:kudlaty188@gmail.com
DTSTART:20160909T000000
DTEND:20160919T000000
URL;VALUE=URI:http://jedynka.om.pttk.pl/2016/07/scotland-aye-9-18-09-2016-trekking/
DESCRIPTION:
CATEGORIES:General
END:VEVENT
BEGIN:VEVENT
UID:41-30
LOCATION:     
SUMMARY:Wieczorny jesienny spacer po Starówce
DTSTAMP:20161109T180000
ORGANIZER;CN=Szymon:MAILTO:spellbinder@poczta.fm
DTSTART:20161109T180000
DTEND:20161109T200000
URL;VALUE=URI:https://www.facebook.com/events/1869214670034782/
DESCRIPTION:
CATEGORIES:General
END:VEVENT
BEGIN:VEVENT
UID:40-29
LOCATION:     
SUMMARY:Rajd "Lublin - Perła na wschodzie"
DTSTAMP:20161112T000000
ORGANIZER;CN=Zarząd:MAILTO:kolopttknr1@gmail.com
DTSTART:20161112T000000
DTEND:20161114T000000
URL;VALUE=URI:http://jedynka.om.pttk.pl/2016/10/lublin-perla-na-wschodzie/
DESCRIPTION:Natalia i Piotrek zapraszają! :)
CATEGORIES:General
END:VEVENT
BEGIN:VEVENT
UID:40-29
LOCATION:     
SUMMARY:Rajd "Lublin - Perła na wschodzie"
DTSTAMP:20161112T000000
ORGANIZER;CN=Zarząd:MAILTO:kolopttknr1@gmail.com
DTSTART:20161112T000000
DTEND:20161114T000000
URL;VALUE=URI:http://jedynka.om.pttk.pl/2016/10/lublin-perla-na-wschodzie/
DESCRIPTION:Natalia i Piotrek zapraszają! :)
CATEGORIES:General
END:VEVENT
BEGIN:VEVENT
UID:38-28
LOCATION:     
SUMMARY:Jak dziki jest Dziki Zachód: drogami i wertepami Kalifornii, Nevady, Arizony i Utah
DTSTAMP:20161123T190000
ORGANIZER;CN=Kamil:MAILTO:kudlaty188@gmail.com
DTSTART:20161123T190000
DTEND:20161123T210000
URL;VALUE=URI:http://jedynka.om.pttk.pl/2016/10/jak-dziki-jest-dziki-zachod-drogami-i-wertepami-kalifornii-nevady-arizony-i-utah/
DESCRIPTION:
CATEGORIES:General
END:VEVENT
BEGIN:VEVENT
UID:44-32
LOCATION:     
SUMMARY:Wykład "Wikiwyjazdy, czyli jak otwarta wiedza pomaga podróżować"
DTSTAMP:20161130T183000
ORGANIZER;CN=Miko:MAILTO:economikro@gmail.com
DTSTART:20161130T183000
DTEND:20161130T200000
URL;VALUE=URI:http://jedynka.om.pttk.pl/2016/11/wikiwyjazdy-czyli-jak-otwarta-wiedza-pomaga-podrozowac/
DESCRIPTION:
CATEGORIES:General
END:VEVENT
BEGIN:VEVENT
UID:45-31
LOCATION:     
SUMMARY:Rajd Mikołajkowy
DTSTAMP:20161203T000000
ORGANIZER;CN=Miko:MAILTO:economikro@gmail.com
DTSTART:20161203T000000
DTEND:20161204T000000
URL;VALUE=URI:http://jedynka.om.pttk.pl/2016/11/sobotni-quest-z-mikolajem/
DESCRIPTION:
CATEGORIES:General
END:VEVENT
BEGIN:VEVENT
UID:49-34
LOCATION:     
SUMMARY:Ale Meksyk! Sylwester 2016
DTSTAMP:20161230T000000
ORGANIZER;CN=Miko:MAILTO:economikro@gmail.com
DTSTART:20161230T000000
DTEND:20170102T000000
URL;VALUE=URI:http://jedynka.om.pttk.pl/2016/11/ale-meksyk-sylwester-2016/
DESCRIPTION:Sylwester z Jedynką!
CATEGORIES:General
END:VEVENT
BEGIN:VEVENT
UID:49-34
LOCATION:     
SUMMARY:Ale Meksyk! Sylwester 2016
DTSTAMP:20161230T000000
ORGANIZER;CN=Miko:MAILTO:economikro@gmail.com
DTSTART:20161230T000000
DTEND:20170102T000000
URL;VALUE=URI:http://jedynka.om.pttk.pl/2016/11/ale-meksyk-sylwester-2016/
DESCRIPTION:Sylwester z Jedynką!
CATEGORIES:General
END:VEVENT
BEGIN:VEVENT
UID:49-34
LOCATION:     
SUMMARY:Ale Meksyk! Sylwester 2016
DTSTAMP:20161230T000000
ORGANIZER;CN=Miko:MAILTO:economikro@gmail.com
DTSTART:20161230T000000
DTEND:20170102T000000
URL;VALUE=URI:http://jedynka.om.pttk.pl/2016/11/ale-meksyk-sylwester-2016/
DESCRIPTION:Sylwester z Jedynką!
CATEGORIES:General
END:VEVENT
BEGIN:VEVENT
UID:52-36
LOCATION:     
SUMMARY:wieczorny spacer po nowym mieście
DTSTAMP:20170118T180000
ORGANIZER;CN=Szymon:MAILTO:spellbinder@poczta.fm
DTSTART:20170118T180000
DTEND:20170118T193000
URL;VALUE=URI:https://www.facebook.com/events/1214330878602035/
DESCRIPTION:Kolejny spacer po Warszawie  - tym razem Nowe Miasto.Zbiórka pod Kolumną Zygmunta o 18:00.Aktualności i inne takie na &gt;&gt;&gt; fejsiku
CATEGORIES:General
END:VEVENT
BEGIN:VEVENT
UID:50-35
LOCATION:     
SUMMARY:VII ZiMnO
DTSTAMP:20170129T000000
ORGANIZER;CN=Szymon:MAILTO:spellbinder@poczta.fm
DTSTART:20170129T000000
DTEND:20170130T000000
URL;VALUE=URI:http://jedynka.om.pttk.pl/2017/01/zimno2017/
DESCRIPTION:
CATEGORIES:General
END:VEVENT
BEGIN:VEVENT
UID:53-37
LOCATION:     
SUMMARY:start kursu OT
DTSTAMP:20170222T000000
ORGANIZER;CN=Szymon:MAILTO:spellbinder@poczta.fm
DTSTART:20170222T000000
DTEND:20170223T000000
URL;VALUE=URI:http://jedynka.om.pttk.pl/2017/02/kurs-organizatora-turystyki-2017/
DESCRIPTION:
CATEGORIES:General
END:VEVENT
BEGIN:VEVENT
UID:54-38
LOCATION:     
SUMMARY:Rajd "Społem" 26.02
DTSTAMP:20170226T000000
ORGANIZER;CN=Szymon:MAILTO:spellbinder@poczta.fm
DTSTART:20170226T000000
DTEND:20170227T000000
URL;VALUE=URI:http://jedynka.om.pttk.pl/2017/02/rajd-spolem-26-02-ognisko/
DESCRIPTION:
CATEGORIES:General
END:VEVENT
BEGIN:VEVENT
UID:55-39
LOCATION:     
SUMMARY:Jajko Kołowe
DTSTAMP:20170412T190000
ORGANIZER;CN=Szymon:MAILTO:spellbinder@poczta.fm
DTSTART:20170412T190000
DTEND:20170412T210000
URL;VALUE=URI:http://jedynka.om.pttk.pl/wp/my-calendar/
DESCRIPTION:zapraszamy na wielkanocne spotkanie Koła
CATEGORIES:General
END:VEVENT
BEGIN:VEVENT
UID:59-40
LOCATION:     
SUMMARY:XIII OMnO InO Świętojańskie 2017
DTSTAMP:20170624T000000
ORGANIZER;CN=Kamil:MAILTO:kudlaty188@gmail.com
DTSTART:20170624T000000
DTEND:20170626T000000
URL;VALUE=URI:http://jedynka.om.pttk.pl/2017/05/xiii-omno-ino-swietojanskie-2017/
DESCRIPTION:XIII Ogólnopolskie Marsze na Orientację "InO Świętojańskie" odbędą się w Pułtusku-Popławach.
CATEGORIES:General
END:VEVENT
BEGIN:VEVENT
UID:59-40
LOCATION:     
SUMMARY:XIII OMnO InO Świętojańskie 2017
DTSTAMP:20170624T000000
ORGANIZER;CN=Kamil:MAILTO:kudlaty188@gmail.com
DTSTART:20170624T000000
DTEND:20170626T000000
URL;VALUE=URI:http://jedynka.om.pttk.pl/2017/05/xiii-omno-ino-swietojanskie-2017/
DESCRIPTION:XIII Ogólnopolskie Marsze na Orientację "InO Świętojańskie" odbędą się w Pułtusku-Popławach.
CATEGORIES:General
END:VEVENT
BEGIN:VEVENT
UID:61-42
LOCATION:     
SUMMARY:Kajaki na Bzurze
DTSTAMP:20170729T000000
ORGANIZER;CN=Szymon:MAILTO:spellbinder@poczta.fm
DTSTART:20170729T000000
DTEND:20170730T000000
URL;VALUE=URI:http://jedynka.om.pttk.pl/2017/07/bzura-kajaki/
DESCRIPTION:
CATEGORIES:General
END:VEVENT
BEGIN:VEVENT
UID:60-41
LOCATION:     
SUMMARY:Param Pam Parang – obóz w górach Rumunii
DTSTAMP:20170805T000000
ORGANIZER;CN=Miko:MAILTO:economikro@gmail.com
DTSTART:20170805T000000
DTEND:20170816T000000
URL;VALUE=URI:http://jedynka.om.pttk.pl/2017/06/param-pam-parang-oboz-w-gorach-rumunii/
DESCRIPTION:
CATEGORIES:General
END:VEVENT
BEGIN:VEVENT
UID:60-41
LOCATION:     
SUMMARY:Param Pam Parang – obóz w górach Rumunii
DTSTAMP:20170805T000000
ORGANIZER;CN=Miko:MAILTO:economikro@gmail.com
DTSTART:20170805T000000
DTEND:20170816T000000
URL;VALUE=URI:http://jedynka.om.pttk.pl/2017/06/param-pam-parang-oboz-w-gorach-rumunii/
DESCRIPTION:
CATEGORIES:General
END:VEVENT
BEGIN:VEVENT
UID:60-41
LOCATION:     
SUMMARY:Param Pam Parang – obóz w górach Rumunii
DTSTAMP:20170805T000000
ORGANIZER;CN=Miko:MAILTO:economikro@gmail.com
DTSTART:20170805T000000
DTEND:20170816T000000
URL;VALUE=URI:http://jedynka.om.pttk.pl/2017/06/param-pam-parang-oboz-w-gorach-rumunii/
DESCRIPTION:
CATEGORIES:General
END:VEVENT
BEGIN:VEVENT
UID:60-41
LOCATION:     
SUMMARY:Param Pam Parang – obóz w górach Rumunii
DTSTAMP:20170805T000000
ORGANIZER;CN=Miko:MAILTO:economikro@gmail.com
DTSTART:20170805T000000
DTEND:20170816T000000
URL;VALUE=URI:http://jedynka.om.pttk.pl/2017/06/param-pam-parang-oboz-w-gorach-rumunii/
DESCRIPTION:
CATEGORIES:General
END:VEVENT
BEGIN:VEVENT
UID:60-41
LOCATION:     
SUMMARY:Param Pam Parang – obóz w górach Rumunii
DTSTAMP:20170805T000000
ORGANIZER;CN=Miko:MAILTO:economikro@gmail.com
DTSTART:20170805T000000
DTEND:20170816T000000
URL;VALUE=URI:http://jedynka.om.pttk.pl/2017/06/param-pam-parang-oboz-w-gorach-rumunii/
DESCRIPTION:
CATEGORIES:General
END:VEVENT
BEGIN:VEVENT
UID:60-41
LOCATION:     
SUMMARY:Param Pam Parang – obóz w górach Rumunii
DTSTAMP:20170805T000000
ORGANIZER;CN=Miko:MAILTO:economikro@gmail.com
DTSTART:20170805T000000
DTEND:20170816T000000
URL;VALUE=URI:http://jedynka.om.pttk.pl/2017/06/param-pam-parang-oboz-w-gorach-rumunii/
DESCRIPTION:
CATEGORIES:General
END:VEVENT
BEGIN:VEVENT
UID:60-41
LOCATION:     
SUMMARY:Param Pam Parang – obóz w górach Rumunii
DTSTAMP:20170805T000000
ORGANIZER;CN=Miko:MAILTO:economikro@gmail.com
DTSTART:20170805T000000
DTEND:20170816T000000
URL;VALUE=URI:http://jedynka.om.pttk.pl/2017/06/param-pam-parang-oboz-w-gorach-rumunii/
DESCRIPTION:
CATEGORIES:General
END:VEVENT
BEGIN:VEVENT
UID:60-41
LOCATION:     
SUMMARY:Param Pam Parang – obóz w górach Rumunii
DTSTAMP:20170805T000000
ORGANIZER;CN=Miko:MAILTO:economikro@gmail.com
DTSTART:20170805T000000
DTEND:20170816T000000
URL;VALUE=URI:http://jedynka.om.pttk.pl/2017/06/param-pam-parang-oboz-w-gorach-rumunii/
DESCRIPTION:
CATEGORIES:General
END:VEVENT
BEGIN:VEVENT
UID:60-41
LOCATION:     
SUMMARY:Param Pam Parang – obóz w górach Rumunii
DTSTAMP:20170805T000000
ORGANIZER;CN=Miko:MAILTO:economikro@gmail.com
DTSTART:20170805T000000
DTEND:20170816T000000
URL;VALUE=URI:http://jedynka.om.pttk.pl/2017/06/param-pam-parang-oboz-w-gorach-rumunii/
DESCRIPTION:
CATEGORIES:General
END:VEVENT
BEGIN:VEVENT
UID:60-41
LOCATION:     
SUMMARY:Param Pam Parang – obóz w górach Rumunii
DTSTAMP:20170805T000000
ORGANIZER;CN=Miko:MAILTO:economikro@gmail.com
DTSTART:20170805T000000
DTEND:20170816T000000
URL;VALUE=URI:http://jedynka.om.pttk.pl/2017/06/param-pam-parang-oboz-w-gorach-rumunii/
DESCRIPTION:
CATEGORIES:General
END:VEVENT
BEGIN:VEVENT
UID:60-41
LOCATION:     
SUMMARY:Param Pam Parang – obóz w górach Rumunii
DTSTAMP:20170805T000000
ORGANIZER;CN=Miko:MAILTO:economikro@gmail.com
DTSTART:20170805T000000
DTEND:20170816T000000
URL;VALUE=URI:http://jedynka.om.pttk.pl/2017/06/param-pam-parang-oboz-w-gorach-rumunii/
DESCRIPTION:
CATEGORIES:General
END:VEVENT
END:VCALENDAR