<!-- 1$$ -->BEGIN:VCALENDAR
VERSION:2.0
METHOD:PUBLISH
PRODID:-//Accessible Web Design//My Calendar//http://www.joedolson.com//v2.5.16//EN
BEGIN:VEVENT
UID:14-8
LOCATION:     
SUMMARY:Sylwester z Jedynką
DTSTAMP:20151226T235900
ORGANIZER;CN=Miko:MAILTO:economikro@gmail.com
DTSTART:20151226T235900
DTEND:20160103T235900
URL;VALUE=URI:http://jedynka.om.pttk.pl/2015/11/sylwester-z-jedynka/
DESCRIPTION:Tygodniowy wyjazd na Dolny Śląsk.
CATEGORIES:General
END:VEVENT
BEGIN:VEVENT
UID:14-8
LOCATION:     
SUMMARY:Sylwester z Jedynką
DTSTAMP:20151226T235900
ORGANIZER;CN=Miko:MAILTO:economikro@gmail.com
DTSTART:20151226T235900
DTEND:20160103T235900
URL;VALUE=URI:http://jedynka.om.pttk.pl/2015/11/sylwester-z-jedynka/
DESCRIPTION:Tygodniowy wyjazd na Dolny Śląsk.
CATEGORIES:General
END:VEVENT
BEGIN:VEVENT
UID:14-8
LOCATION:     
SUMMARY:Sylwester z Jedynką
DTSTAMP:20151226T235900
ORGANIZER;CN=Miko:MAILTO:economikro@gmail.com
DTSTART:20151226T235900
DTEND:20160103T235900
URL;VALUE=URI:http://jedynka.om.pttk.pl/2015/11/sylwester-z-jedynka/
DESCRIPTION:Tygodniowy wyjazd na Dolny Śląsk.
CATEGORIES:General
END:VEVENT
BEGIN:VEVENT
UID:14-8
LOCATION:     
SUMMARY:Sylwester z Jedynką
DTSTAMP:20151226T235900
ORGANIZER;CN=Miko:MAILTO:economikro@gmail.com
DTSTART:20151226T235900
DTEND:20160103T235900
URL;VALUE=URI:http://jedynka.om.pttk.pl/2015/11/sylwester-z-jedynka/
DESCRIPTION:Tygodniowy wyjazd na Dolny Śląsk.
CATEGORIES:General
END:VEVENT
BEGIN:VEVENT
UID:14-8
LOCATION:     
SUMMARY:Sylwester z Jedynką
DTSTAMP:20151226T235900
ORGANIZER;CN=Miko:MAILTO:economikro@gmail.com
DTSTART:20151226T235900
DTEND:20160103T235900
URL;VALUE=URI:http://jedynka.om.pttk.pl/2015/11/sylwester-z-jedynka/
DESCRIPTION:Tygodniowy wyjazd na Dolny Śląsk.
CATEGORIES:General
END:VEVENT
BEGIN:VEVENT
UID:14-8
LOCATION:     
SUMMARY:Sylwester z Jedynką
DTSTAMP:20151226T235900
ORGANIZER;CN=Miko:MAILTO:economikro@gmail.com
DTSTART:20151226T235900
DTEND:20160103T235900
URL;VALUE=URI:http://jedynka.om.pttk.pl/2015/11/sylwester-z-jedynka/
DESCRIPTION:Tygodniowy wyjazd na Dolny Śląsk.
CATEGORIES:General
END:VEVENT
BEGIN:VEVENT
UID:14-8
LOCATION:     
SUMMARY:Sylwester z Jedynką
DTSTAMP:20151226T235900
ORGANIZER;CN=Miko:MAILTO:economikro@gmail.com
DTSTART:20151226T235900
DTEND:20160103T235900
URL;VALUE=URI:http://jedynka.om.pttk.pl/2015/11/sylwester-z-jedynka/
DESCRIPTION:Tygodniowy wyjazd na Dolny Śląsk.
CATEGORIES:General
END:VEVENT
BEGIN:VEVENT
UID:14-8
LOCATION:     
SUMMARY:Sylwester z Jedynką
DTSTAMP:20151226T235900
ORGANIZER;CN=Miko:MAILTO:economikro@gmail.com
DTSTART:20151226T235900
DTEND:20160103T235900
URL;VALUE=URI:http://jedynka.om.pttk.pl/2015/11/sylwester-z-jedynka/
DESCRIPTION:Tygodniowy wyjazd na Dolny Śląsk.
CATEGORIES:General
END:VEVENT
BEGIN:VEVENT
UID:14-8
LOCATION:     
SUMMARY:Sylwester z Jedynką
DTSTAMP:20151226T235900
ORGANIZER;CN=Miko:MAILTO:economikro@gmail.com
DTSTART:20151226T235900
DTEND:20160103T235900
URL;VALUE=URI:http://jedynka.om.pttk.pl/2015/11/sylwester-z-jedynka/
DESCRIPTION:Tygodniowy wyjazd na Dolny Śląsk.
CATEGORIES:General
END:VEVENT
END:VCALENDAR