<!-- 1$$ -->BEGIN:VCALENDAR
VERSION:2.0
METHOD:PUBLISH
PRODID:-//Accessible Web Design//My Calendar//http://www.joedolson.com//v2.5.16//EN
BEGIN:VEVENT
UID:5-2
LOCATION:     
SUMMARY:Slajdowisko - Morawy
DTSTAMP:20151104T190000
ORGANIZER;CN=Miko:MAILTO:economikro@gmail.com
DTSTART:20151104T190000
DTEND:20151104T200000
URL;VALUE=URI:http://jedynka.om.pttk.pl/wp/my-calendar/
DESCRIPTION:http://jedynka.om.pttk.pl/wp/2015/10/rowerem-przez-morawskie-winnice-i-zamki/
CATEGORIES:General
END:VEVENT
BEGIN:VEVENT
UID:7-3
LOCATION:     
SUMMARY:Beskid Mały przejdę cały
DTSTAMP:20151111T000000
ORGANIZER;CN=Miko:MAILTO:economikro@gmail.com
DTSTART:20151111T000000
DTEND:20151116T000000
URL;VALUE=URI:http://jedynka.om.pttk.pl/2015/10/beskid-maly-przejde-caly/
DESCRIPTION:Pojedź z nami w Beskid Mały!
CATEGORIES:General
END:VEVENT
BEGIN:VEVENT
UID:7-3
LOCATION:     
SUMMARY:Beskid Mały przejdę cały
DTSTAMP:20151111T000000
ORGANIZER;CN=Miko:MAILTO:economikro@gmail.com
DTSTART:20151111T000000
DTEND:20151116T000000
URL;VALUE=URI:http://jedynka.om.pttk.pl/2015/10/beskid-maly-przejde-caly/
DESCRIPTION:Pojedź z nami w Beskid Mały!
CATEGORIES:General
END:VEVENT
BEGIN:VEVENT
UID:7-3
LOCATION:     
SUMMARY:Beskid Mały przejdę cały
DTSTAMP:20151111T000000
ORGANIZER;CN=Miko:MAILTO:economikro@gmail.com
DTSTART:20151111T000000
DTEND:20151116T000000
URL;VALUE=URI:http://jedynka.om.pttk.pl/2015/10/beskid-maly-przejde-caly/
DESCRIPTION:Pojedź z nami w Beskid Mały!
CATEGORIES:General
END:VEVENT
BEGIN:VEVENT
UID:7-3
LOCATION:     
SUMMARY:Beskid Mały przejdę cały
DTSTAMP:20151111T000000
ORGANIZER;CN=Miko:MAILTO:economikro@gmail.com
DTSTART:20151111T000000
DTEND:20151116T000000
URL;VALUE=URI:http://jedynka.om.pttk.pl/2015/10/beskid-maly-przejde-caly/
DESCRIPTION:Pojedź z nami w Beskid Mały!
CATEGORIES:General
END:VEVENT
BEGIN:VEVENT
UID:7-3
LOCATION:     
SUMMARY:Beskid Mały przejdę cały
DTSTAMP:20151111T000000
ORGANIZER;CN=Miko:MAILTO:economikro@gmail.com
DTSTART:20151111T000000
DTEND:20151116T000000
URL;VALUE=URI:http://jedynka.om.pttk.pl/2015/10/beskid-maly-przejde-caly/
DESCRIPTION:Pojedź z nami w Beskid Mały!
CATEGORIES:General
END:VEVENT
BEGIN:VEVENT
UID:9-5
LOCATION:     
SUMMARY:Przedmoście Warszawa cz. 2
DTSTAMP:20151121T000000
ORGANIZER;CN=Miko:MAILTO:economikro@gmail.com
DTSTART:20151121T000000
DTEND:20151122T000000
URL;VALUE=URI:http://jedynka.om.pttk.pl/2015/11/przedmioscie-warszawa-cz-2-swidermajer-21-11-2015/
DESCRIPTION:Zapraszamy na wycieczkę!
CATEGORIES:General
END:VEVENT
BEGIN:VEVENT
UID:8-4
LOCATION:     
SUMMARY:25 listopada – Wieczór planszówkowy
DTSTAMP:20151125T183000
ORGANIZER;CN=Miko:MAILTO:economikro@gmail.com
DTSTART:20151125T183000
DTEND:20151125T193000
URL;VALUE=URI:http://jedynka.om.pttk.pl/2015/11/25-listopada-wieczor-planszowkowy/
DESCRIPTION:Zapraszamy na wieczór z planszówkami!
CATEGORIES:General
END:VEVENT
END:VCALENDAR