<!-- 1$$ -->BEGIN:VCALENDAR
VERSION:2.0
METHOD:PUBLISH
PRODID:-//Accessible Web Design//My Calendar//http://www.joedolson.com//v2.5.16//EN';
BEGIN:VEVENT
UID:59-40
LOCATION:     
SUMMARY:XIII OMnO InO Świętojańskie 2017
DTSTAMP:20170624T000000
ORGANIZER;CN=Kamil:MAILTO:kudlaty188@gmail.com
DTSTART:20170624T000000
DTEND:20170626T000000
CATEGORIES:General
URL;VALUE=URI:http://jedynka.om.pttk.pl/2017/05/xiii-omno-ino-swietojanskie-2017/
DESCRIPTION;ENCODING=QUOTED-PRINTABLE:XIII Ogólnopolskie Marsze na Orientację "InO Świętojańskie" odbędą się w Pułtusku-Popławach.
END:VEVENT
END:VCALENDAR