<!-- 1$$ -->BEGIN:VCALENDAR
VERSION:2.0
METHOD:PUBLISH
PRODID:-//Accessible Web Design//My Calendar//http://www.joedolson.com//v2.5.16//EN';
BEGIN:VEVENT
UID:55-39
LOCATION:     
SUMMARY:Jajko Kołowe
DTSTAMP:20170412T190000
ORGANIZER;CN=Szymon:MAILTO:spellbinder@poczta.fm
DTSTART:20170412T190000
DTEND:20170412T210000
CATEGORIES:General
URL;VALUE=URI:
DESCRIPTION;ENCODING=QUOTED-PRINTABLE:zapraszamy na wielkanocne spotkanie Koła
END:VEVENT
END:VCALENDAR