<!-- 1$$ -->BEGIN:VCALENDAR
VERSION:2.0
METHOD:PUBLISH
PRODID:-//Accessible Web Design//My Calendar//http://www.joedolson.com//v2.5.16//EN';
BEGIN:VEVENT
UID:52-36
LOCATION:     
SUMMARY:wieczorny spacer po nowym mieście
DTSTAMP:20170118T180000
ORGANIZER;CN=Szymon:MAILTO:spellbinder@poczta.fm
DTSTART:20170118T180000
DTEND:20170118T193000
CATEGORIES:General
URL;VALUE=URI:https://www.facebook.com/events/1214330878602035/
DESCRIPTION;ENCODING=QUOTED-PRINTABLE:Kolejny spacer po Warszawie  - tym razem Nowe Miasto.Zbiórka pod Kolumną Zygmunta o 18:00.Aktualności i inne takie na &gt;&gt;&gt; fejsiku
END:VEVENT
END:VCALENDAR