<!-- 1$$ -->BEGIN:VCALENDAR
VERSION:2.0
METHOD:PUBLISH
PRODID:-//Accessible Web Design//My Calendar//http://www.joedolson.com//v2.5.16//EN';
BEGIN:VEVENT
UID:5-2
LOCATION:     
SUMMARY:Slajdowisko - Morawy
DTSTAMP:20151104T190000
ORGANIZER;CN=Miko:MAILTO:economikro@gmail.com
DTSTART:20151104T190000
DTEND:20151104T200000
CATEGORIES:General
URL;VALUE=URI:
DESCRIPTION;ENCODING=QUOTED-PRINTABLE:http://jedynka.om.pttk.pl/wp/2015/10/rowerem-przez-morawskie-winnice-i-zamki/
END:VEVENT
END:VCALENDAR