<!-- 1$$ -->BEGIN:VCALENDAR
VERSION:2.0
METHOD:PUBLISH
PRODID:-//Accessible Web Design//My Calendar//http://www.joedolson.com//v2.5.16//EN';
BEGIN:VEVENT
UID:49-34
LOCATION:     
SUMMARY:Ale Meksyk! Sylwester 2016
DTSTAMP:20161230T000000
ORGANIZER;CN=Miko:MAILTO:economikro@gmail.com
DTSTART:20161230T000000
DTEND:20170102T000000
CATEGORIES:General
URL;VALUE=URI:http://jedynka.om.pttk.pl/2016/11/ale-meksyk-sylwester-2016/
DESCRIPTION;ENCODING=QUOTED-PRINTABLE:Sylwester z Jedynką!
END:VEVENT
END:VCALENDAR