<!-- 1$$ -->BEGIN:VCALENDAR
VERSION:2.0
METHOD:PUBLISH
PRODID:-//Accessible Web Design//My Calendar//http://www.joedolson.com//v2.5.16//EN';
BEGIN:VEVENT
UID:4-1
LOCATION:     
SUMMARY:Targi KONIK
DTSTAMP:20151028T000000
ORGANIZER;CN=Miko:MAILTO:economikro@gmail.com
DTSTART:20151028T000000
DTEND:20151030T000000
CATEGORIES:General
URL;VALUE=URI:
DESCRIPTION;ENCODING=QUOTED-PRINTABLE:Mamy stoisko na targach KONIK!http://jedynka.om.pttk.pl/wp/2015/10/targi-konik-2015/&nbsp;
END:VEVENT
END:VCALENDAR