<!-- 1$$ -->BEGIN:VCALENDAR
VERSION:2.0
METHOD:PUBLISH
PRODID:-//Accessible Web Design//My Calendar//http://www.joedolson.com//v2.5.16//EN';
BEGIN:VEVENT
UID:22-13
LOCATION:     
SUMMARY:Walne Zebranie Koła
DTSTAMP:20160316T183000
ORGANIZER;CN=Zarząd:MAILTO:kolopttknr1@gmail.com
DTSTART:20160316T183000
DTEND:20160316T000000
CATEGORIES:General
URL;VALUE=URI:
DESCRIPTION;ENCODING=QUOTED-PRINTABLE:
END:VEVENT
END:VCALENDAR