<!-- 1$$ -->BEGIN:VCALENDAR
VERSION:2.0
METHOD:PUBLISH
PRODID:-//Accessible Web Design//My Calendar//http://www.joedolson.com//v2.5.16//EN';
BEGIN:VEVENT
UID:19-11
LOCATION:     
SUMMARY:6 ZiMnO
DTSTAMP:20160206T000000
ORGANIZER;CN=Szymon:MAILTO:spellbinder@poczta.fm
DTSTART:20160206T000000
DTEND:20160207T000000
CATEGORIES:General
URL;VALUE=URI:
DESCRIPTION;ENCODING=QUOTED-PRINTABLE:
END:VEVENT
END:VCALENDAR