<!-- 1$$ -->BEGIN:VCALENDAR
VERSION:2.0
METHOD:PUBLISH
PRODID:-//Accessible Web Design//My Calendar//http://www.joedolson.com//v2.5.16//EN';
BEGIN:VEVENT
UID:18-10
LOCATION:     
SUMMARY:Wigilia Jedynki
DTSTAMP:20151216T190000
ORGANIZER;CN=Zarząd:MAILTO:kolopttknr1@gmail.com
DTSTART:20151216T190000
DTEND:20151216T200000
CATEGORIES:General
URL;VALUE=URI:
DESCRIPTION;ENCODING=QUOTED-PRINTABLE:Zapraszamy na Wigilię Jedynki!http://jedynka.om.pttk.pl/2015/12/wigilia-jedynki-16-12-2015-r/
END:VEVENT
END:VCALENDAR