<!-- 1$$ -->BEGIN:VCALENDAR
VERSION:2.0
METHOD:PUBLISH
PRODID:-//Accessible Web Design//My Calendar//http://www.joedolson.com//v2.5.16//EN';
BEGIN:VEVENT
UID:15-9
LOCATION:     
SUMMARY:Łowicz to nie tylko dżem
DTSTAMP:20151212T235900
ORGANIZER;CN=Miko:MAILTO:economikro@gmail.com
DTSTART:20151212T235900
DTEND:20151213T235900
CATEGORIES:General
URL;VALUE=URI:http://jedynka.om.pttk.pl/2015/12/lowicz-to-nie-tylko-dzem/
DESCRIPTION;ENCODING=QUOTED-PRINTABLE:Wyjazd weekendowy!
END:VEVENT
END:VCALENDAR