<!-- 1$$ -->BEGIN:VCALENDAR
VERSION:2.0
METHOD:PUBLISH
PRODID:-//Accessible Web Design//My Calendar//http://www.joedolson.com//v2.5.16//EN';
BEGIN:VEVENT
UID:13-7
LOCATION:     
SUMMARY:Slajdowisko - była Jugosławia i Albania
DTSTAMP:20151209T190000
ORGANIZER;CN=Miko:MAILTO:economikro@gmail.com
DTSTART:20151209T190000
DTEND:20151209T203000
CATEGORIES:General
URL;VALUE=URI:http://jedynka.om.pttk.pl/2015/11/samochodem-pociagiem-i-pontonem-po-krajach-bylej-jugoslawii-i-albanii/
DESCRIPTION;ENCODING=QUOTED-PRINTABLE:Zapraszamy na slajdowisko "Samochodem, pociągiem i pontonem po krajach byłej Jugosławii i Albanii".
END:VEVENT
END:VCALENDAR