<!-- 1$$ -->BEGIN:VCALENDAR
VERSION:2.0
METHOD:PUBLISH
PRODID:-//Accessible Web Design//My Calendar//http://www.joedolson.com//v2.5.16//EN';
BEGIN:VEVENT
UID:11-6
LOCATION:     
SUMMARY:Rajd Mikołajkowy!
DTSTAMP:20151205T000000
ORGANIZER;CN=Miko:MAILTO:economikro@gmail.com
DTSTART:20151205T000000
DTEND:20151206T000000
CATEGORIES:General
URL;VALUE=URI:http://jedynka.om.pttk.pl/2015/11/rajd-mikolajkowy-2015/
DESCRIPTION;ENCODING=QUOTED-PRINTABLE:Szczegóły już są!
END:VEVENT
END:VCALENDAR